BEGIN:VCALENDAR
VERSION:2.0
PRODID:icalendar-ruby
CALSCALE:GREGORIAN
METHOD:PUBLISH
BEGIN:VEVENT
DTSTAMP:20260419T155322Z
UID:28-199255@turnerscreekbc.org
DTSTART:20260620T140000Z
DTEND:20260620T170000Z
CLASS:PUBLIC
CREATED:20260317T152314
DESCRIPTION:Please join is on this special day as we look back at America's
  past.  Enjoy patriotic and gospel music along with our honored speaker\,
  Preacher Ron Baity. Cook out style meal will be provided. 100% free and o
 pen to the public.  All are welcome and wanted!
LAST-MODIFIED:20260317T152314
LOCATION:Church Gym
SUMMARY:Patriot's Day
URL;VALUE=URI:https://turnerscreekbc.org/events/patriots-day/2026-06-20
ATTACH;FILENAME=1772846821013.png;FMTTYPE=image/png:https://dq5pwpg1q8ru0.c
 loudfront.net/2026/03/07/01/47/33/1e9e9f35-af53-4189-9303-892c59cddbc8/177
 2846821013.png
END:VEVENT
END:VCALENDAR
