BEGIN:VCALENDAR
VERSION:2.0
PRODID:icalendar-ruby
CALSCALE:GREGORIAN
METHOD:PUBLISH
BEGIN:VEVENT
DTSTAMP:20260419T154948Z
UID:29-199254@turnerscreekbc.org
DTSTART;VALUE=DATE:20260727
DTEND;VALUE=DATE:20260731
CLASS:PUBLIC
CREATED:20260317T152224
DESCRIPTION:Monday - Friday 6:30pm-8:30pm\nBible lessons\, games\, crafts\,
  snacks and nightly prizes\nClasses for all ages
LAST-MODIFIED:20260317T152224
LOCATION:
SUMMARY:Vacation Bible School
URL;VALUE=URI:https://turnerscreekbc.org/events/vacation-bible-school/2026-
 07-27
ATTACH;FILENAME=1772932686596.png;FMTTYPE=image/png:https://dq5pwpg1q8ru0.c
 loudfront.net/2026/03/17/19/21/37/6822069e-81fb-41e6-8def-23fc24f357e8/177
 2932686596.png
END:VEVENT
END:VCALENDAR
